BEGIN:VCALENDAR
VERSION:2.0
PRODID:-//SP Entfelden - ECPv5.7.1//NONSGML v1.0//EN
CALSCALE:GREGORIAN
METHOD:PUBLISH
X-WR-CALNAME:SP Entfelden
X-ORIGINAL-URL:https://sp-entfelden.ch
X-WR-CALDESC:Veranstaltungen für SP Entfelden
BEGIN:VTIMEZONE
TZID:Europe/Zurich
BEGIN:DAYLIGHT
TZOFFSETFROM:+0100
TZOFFSETTO:+0200
TZNAME:CEST
DTSTART:20230326T010000
END:DAYLIGHT
BEGIN:STANDARD
TZOFFSETFROM:+0200
TZOFFSETTO:+0100
TZNAME:CET
DTSTART:20231029T010000
END:STANDARD
END:VTIMEZONE
BEGIN:VEVENT
DTSTART;TZID=Europe/Zurich:20230815T193000
DTEND;TZID=Europe/Zurich:20230815T210000
DTSTAMP:20260420T021843
CREATED:20230706T104011Z
LAST-MODIFIED:20230706T104011Z
UID:2140-1692127800-1692133200@sp-entfelden.ch
SUMMARY:Ausserordentliche Parteiversammlung
DESCRIPTION:
URL:https://sp-entfelden.ch/event/ausserordentliche-parteiversammlung/
END:VEVENT
END:VCALENDAR