BEGIN:VCALENDAR
VERSION:2.0
PRODID:-//SP Entfelden - ECPv5.7.1//NONSGML v1.0//EN
CALSCALE:GREGORIAN
METHOD:PUBLISH
X-WR-CALNAME:SP Entfelden
X-ORIGINAL-URL:https://sp-entfelden.ch
X-WR-CALDESC:Veranstaltungen für SP Entfelden
BEGIN:VTIMEZONE
TZID:Europe/Zurich
BEGIN:DAYLIGHT
TZOFFSETFROM:+0100
TZOFFSETTO:+0200
TZNAME:CEST
DTSTART:20230326T010000
END:DAYLIGHT
BEGIN:STANDARD
TZOFFSETFROM:+0200
TZOFFSETTO:+0100
TZNAME:CET
DTSTART:20231029T010000
END:STANDARD
END:VTIMEZONE
BEGIN:VEVENT
DTSTART;TZID=Europe/Zurich:20231202T160000
DTEND;TZID=Europe/Zurich:20231202T180000
DTSTAMP:20260420T003600
CREATED:20221120T192559Z
LAST-MODIFIED:20231128T134823Z
UID:2020-1701532800-1701540000@sp-entfelden.ch
SUMMARY:Chlaushöck
DESCRIPTION:
URL:https://sp-entfelden.ch/event/chlaushoeck-3/
END:VEVENT
END:VCALENDAR