BEGIN:VCALENDAR
VERSION:2.0
PRODID:-//SP Entfelden - ECPv5.7.1//NONSGML v1.0//EN
CALSCALE:GREGORIAN
METHOD:PUBLISH
X-WR-CALNAME:SP Entfelden
X-ORIGINAL-URL:https://sp-entfelden.ch
X-WR-CALDESC:Veranstaltungen für SP Entfelden
BEGIN:VTIMEZONE
TZID:Europe/Zurich
BEGIN:DAYLIGHT
TZOFFSETFROM:+0100
TZOFFSETTO:+0200
TZNAME:CEST
DTSTART:20230326T010000
END:DAYLIGHT
BEGIN:STANDARD
TZOFFSETFROM:+0200
TZOFFSETTO:+0100
TZNAME:CET
DTSTART:20231029T010000
END:STANDARD
END:VTIMEZONE
BEGIN:VEVENT
DTSTART;TZID=Europe/Zurich:20230916T093000
DTEND;TZID=Europe/Zurich:20230916T130000
DTSTAMP:20260420T003600
CREATED:20221120T192320Z
LAST-MODIFIED:20230706T103838Z
UID:2014-1694856600-1694869200@sp-entfelden.ch
SUMMARY:Clean-up Day
DESCRIPTION:
URL:https://sp-entfelden.ch/event/clean-up-day/
END:VEVENT
END:VCALENDAR