BEGIN:VCALENDAR
VERSION:2.0
PRODID:-//SP Entfelden - ECPv5.7.1//NONSGML v1.0//EN
CALSCALE:GREGORIAN
METHOD:PUBLISH
X-WR-CALNAME:SP Entfelden
X-ORIGINAL-URL:https://sp-entfelden.ch
X-WR-CALDESC:Veranstaltungen für SP Entfelden
BEGIN:VTIMEZONE
TZID:Europe/Zurich
BEGIN:DAYLIGHT
TZOFFSETFROM:+0100
TZOFFSETTO:+0200
TZNAME:CEST
DTSTART:20210328T010000
END:DAYLIGHT
BEGIN:STANDARD
TZOFFSETFROM:+0200
TZOFFSETTO:+0100
TZNAME:CET
DTSTART:20211031T010000
END:STANDARD
END:VTIMEZONE
BEGIN:VEVENT
DTSTART;TZID=Europe/Zurich:20211106T100000
DTEND;TZID=Europe/Zurich:20211106T140000
DTSTAMP:20260420T041412
CREATED:20211027T180039Z
LAST-MODIFIED:20211027T180039Z
UID:1775-1636192800-1636207200@sp-entfelden.ch
SUMMARY:Entfelden für eine starke Pflege
DESCRIPTION:Standaktion für die Pflegeinitiative in Entfelden: \n\n\n\n\nWIR SIND FÜR SIE DA! \n6. NOVEMBER 2021\, 10:00 BIS 14:00\, VOR DEM DENNER IN UNTERENTFELDEN\nWir messen Ihnen den Blutdruck und stärken Sie mit einer warmen Suppe. Kommen Sie vorbei und sprechen Sie mit Fachpersonen über die Situation in den Pflegeberufen. \nWWW.PFLEGEINITIATIVE.CH \nFlyer Standaktion
URL:https://sp-entfelden.ch/event/entfelden-fuer-eine-starke-pflege/
LOCATION:Denner Unterentfelden\, Hauptstrasse 23\, Unterentfelden\, 5035
ATTACH;FMTTYPE=image/png:https://sp-entfelden.ch/wp-content/uploads/2021/10/Logo_DE.02aa6f7e3ee8.png
END:VEVENT
END:VCALENDAR