BEGIN:VCALENDAR
VERSION:2.0
PRODID:-//SP Entfelden - ECPv5.7.1//NONSGML v1.0//EN
CALSCALE:GREGORIAN
METHOD:PUBLISH
X-WR-CALNAME:SP Entfelden
X-ORIGINAL-URL:https://sp-entfelden.ch
X-WR-CALDESC:Veranstaltungen für SP Entfelden
BEGIN:VTIMEZONE
TZID:Europe/Zurich
BEGIN:DAYLIGHT
TZOFFSETFROM:+0100
TZOFFSETTO:+0200
TZNAME:CEST
DTSTART:20210328T010000
END:DAYLIGHT
BEGIN:STANDARD
TZOFFSETFROM:+0200
TZOFFSETTO:+0100
TZNAME:CET
DTSTART:20211031T010000
END:STANDARD
END:VTIMEZONE
BEGIN:VEVENT
DTSTART;TZID=Europe/Zurich:20210320T130000
DTEND;TZID=Europe/Zurich:20210320T150000
DTSTAMP:20260420T074430
CREATED:20210213T092701Z
LAST-MODIFIED:20210213T092701Z
UID:1428-1616245200-1616252400@sp-entfelden.ch
SUMMARY:Generalversammlung der SP Entfelden
DESCRIPTION:Die diesjährige GV wird voraussichtlich digital durchgeführt. Die Traktanden werden den Mitgliedern per eMail zugestellt.
URL:https://sp-entfelden.ch/event/generalversammlung-der-sp-entfelden/
END:VEVENT
END:VCALENDAR