BEGIN:VCALENDAR
VERSION:2.0
PRODID:-//SP Entfelden - ECPv5.7.1//NONSGML v1.0//EN
CALSCALE:GREGORIAN
METHOD:PUBLISH
X-WR-CALNAME:SP Entfelden
X-ORIGINAL-URL:https://sp-entfelden.ch
X-WR-CALDESC:Veranstaltungen für SP Entfelden
BEGIN:VTIMEZONE
TZID:Europe/Zurich
BEGIN:DAYLIGHT
TZOFFSETFROM:+0100
TZOFFSETTO:+0200
TZNAME:CEST
DTSTART:20240331T010000
END:DAYLIGHT
BEGIN:STANDARD
TZOFFSETFROM:+0200
TZOFFSETTO:+0100
TZNAME:CET
DTSTART:20241027T010000
END:STANDARD
END:VTIMEZONE
BEGIN:VEVENT
DTSTART;TZID=Europe/Zurich:20240507T190000
DTEND;TZID=Europe/Zurich:20240507T210000
DTSTAMP:20260419T224743
CREATED:20240225T140409Z
LAST-MODIFIED:20240225T140409Z
UID:2315-1715108400-1715115600@sp-entfelden.ch
SUMMARY:Generalversammlung
DESCRIPTION:
URL:https://sp-entfelden.ch/event/generalversammlung/
LOCATION:Armenischer Verein Oberentfelden
END:VEVENT
END:VCALENDAR