BEGIN:VCALENDAR
VERSION:2.0
PRODID:-//SP Entfelden - ECPv5.7.1//NONSGML v1.0//EN
CALSCALE:GREGORIAN
METHOD:PUBLISH
X-WR-CALNAME:SP Entfelden
X-ORIGINAL-URL:https://sp-entfelden.ch
X-WR-CALDESC:Veranstaltungen für SP Entfelden
BEGIN:VTIMEZONE
TZID:Europe/Zurich
BEGIN:DAYLIGHT
TZOFFSETFROM:+0100
TZOFFSETTO:+0200
TZNAME:CEST
DTSTART:20230326T010000
END:DAYLIGHT
BEGIN:STANDARD
TZOFFSETFROM:+0200
TZOFFSETTO:+0100
TZNAME:CET
DTSTART:20231029T010000
END:STANDARD
END:VTIMEZONE
BEGIN:VEVENT
DTSTART;TZID=Europe/Zurich:20231125T110000
DTEND;TZID=Europe/Zurich:20231125T120000
DTSTAMP:20260419T230252
CREATED:20231031T110015Z
LAST-MODIFIED:20231030T200658Z
UID:2230-1700910000-1700913600@sp-entfelden.ch
SUMMARY:Kafi & Zopf in der «The Coffee Factory»
DESCRIPTION:Lernen Sie Vasco Rohr kennen: \n\n\n\n\nKafi & Zopf in der «The Coffee Factory» (im Ammanncenter\, Muhenstrasse 11)
URL:https://sp-entfelden.ch/event/kafi-zopf-in-der-the-coffee-factory/
END:VEVENT
END:VCALENDAR