BEGIN:VCALENDAR
VERSION:2.0
PRODID:-//SP Entfelden - ECPv5.7.1//NONSGML v1.0//EN
CALSCALE:GREGORIAN
METHOD:PUBLISH
X-WR-CALNAME:SP Entfelden
X-ORIGINAL-URL:https://sp-entfelden.ch
X-WR-CALDESC:Veranstaltungen für SP Entfelden
BEGIN:VTIMEZONE
TZID:Europe/Zurich
BEGIN:DAYLIGHT
TZOFFSETFROM:+0100
TZOFFSETTO:+0200
TZNAME:CEST
DTSTART:20220327T010000
END:DAYLIGHT
BEGIN:STANDARD
TZOFFSETFROM:+0200
TZOFFSETTO:+0100
TZNAME:CET
DTSTART:20221030T010000
END:STANDARD
END:VTIMEZONE
BEGIN:VEVENT
DTSTART;TZID=Europe/Zurich:20220903T160000
DTEND;TZID=Europe/Zurich:20220903T180000
DTSTAMP:20260420T023357
CREATED:20220522T093505Z
LAST-MODIFIED:20220831T131341Z
UID:1892-1662220800-1662228000@sp-entfelden.ch
SUMMARY:Lesegruppe: Frühling der Barbaren von Jonas Lüscher
DESCRIPTION:Wir lesen von Jonas Lüscher: Frühling der Barbaren\nalle interessierten Mitglieder und Sympis sind herzlich eingeladen (bitte voranmelden bei Lucia) \n\n\nBildquelle: https://www.werliestwo.ch/2124/prolog-der-6-stgaller-literaturtage-wortlaut-fruehling-der-barbaren \n\n\n 
URL:https://sp-entfelden.ch/event/lesegruppe-fruehling-der-barbaren-von-jonas-luescher/
LOCATION:Weidenweg 11\, Weidenweg 11\, Oberentfelden\, 5036\, Schweiz
ATTACH;FMTTYPE=image/jpeg:https://sp-entfelden.ch/wp-content/uploads/2022/05/i_20140207-090305-85.jpg
END:VEVENT
END:VCALENDAR