BEGIN:VCALENDAR
VERSION:2.0
PRODID:-//SP Entfelden - ECPv5.7.1//NONSGML v1.0//EN
CALSCALE:GREGORIAN
METHOD:PUBLISH
X-WR-CALNAME:SP Entfelden
X-ORIGINAL-URL:https://sp-entfelden.ch
X-WR-CALDESC:Veranstaltungen für SP Entfelden
BEGIN:VTIMEZONE
TZID:Europe/Zurich
BEGIN:DAYLIGHT
TZOFFSETFROM:+0100
TZOFFSETTO:+0200
TZNAME:CEST
DTSTART:20210328T010000
END:DAYLIGHT
BEGIN:STANDARD
TZOFFSETFROM:+0200
TZOFFSETTO:+0100
TZNAME:CET
DTSTART:20211031T010000
END:STANDARD
END:VTIMEZONE
BEGIN:VEVENT
DTSTART;TZID=Europe/Zurich:20210529T110000
DTEND;TZID=Europe/Zurich:20210529T123000
DTSTAMP:20260420T055439
CREATED:20210522T191826Z
LAST-MODIFIED:20210522T191826Z
UID:1453-1622286000-1622291400@sp-entfelden.ch
SUMMARY:Podium zur Trinkwasser- und Pestizidinitiative
DESCRIPTION:Diskussionsanlass zur Pestizidinitiative und Trinkwasserinitiative mit Heinz Lüscher (Biobauer & Gemeindeammann SP\, Kontra) und Thomas Baumann (Biobauer & Grossrat Grüne\, Pro) im Kirchensaal Unterentfelden. Offen für alle angemeldeten Interessierten. Anmeldungen bitte an lucia.engeli@gmx.ch bis am 28.05.21. (Hygienekonzept gemäss Vorgaben des Bundesrates)
URL:https://sp-entfelden.ch/event/podium-zur-trinkwasser-und-pestizidinitiative/
LOCATION:Reformierte Kirche Unterentfelden\, Hauptstrasse 19\, Unterentfelden\, 5035\, Schweiz
ATTACH;FMTTYPE=image/jpeg:https://sp-entfelden.ch/wp-content/uploads/2021/05/Flyer-Diskussionsanlass.001.jpeg
ORGANIZER;CN="":MAILTO:lucia.engeli@gmx.ch
END:VEVENT
END:VCALENDAR