BEGIN:VCALENDAR
VERSION:2.0
PRODID:-//SP Entfelden - ECPv5.7.1//NONSGML v1.0//EN
CALSCALE:GREGORIAN
METHOD:PUBLISH
X-WR-CALNAME:SP Entfelden
X-ORIGINAL-URL:https://sp-entfelden.ch
X-WR-CALDESC:Veranstaltungen für SP Entfelden
BEGIN:VTIMEZONE
TZID:Europe/Zurich
BEGIN:DAYLIGHT
TZOFFSETFROM:+0100
TZOFFSETTO:+0200
TZNAME:CEST
DTSTART:20250330T010000
END:DAYLIGHT
BEGIN:STANDARD
TZOFFSETFROM:+0200
TZOFFSETTO:+0100
TZNAME:CET
DTSTART:20251026T010000
END:STANDARD
END:VTIMEZONE
BEGIN:VEVENT
DTSTART;TZID=Europe/Zurich:20250906T093000
DTEND;TZID=Europe/Zurich:20250906T130000
DTSTAMP:20260419T185016
CREATED:20250902T191517Z
LAST-MODIFIED:20250902T191645Z
UID:2524-1757151000-1757163600@sp-entfelden.ch
SUMMARY:Podiumsdiskussion Gemeinderatswahlen Unterentfelden
DESCRIPTION:Podiumsdiskussion UE
URL:https://sp-entfelden.ch/event/podiumsdiskussion-gemeinderatswahlen-ue/
END:VEVENT
END:VCALENDAR