BEGIN:VCALENDAR
VERSION:2.0
PRODID:-//SP Entfelden - ECPv5.7.1//NONSGML v1.0//EN
CALSCALE:GREGORIAN
METHOD:PUBLISH
X-WR-CALNAME:SP Entfelden
X-ORIGINAL-URL:https://sp-entfelden.ch
X-WR-CALDESC:Veranstaltungen für SP Entfelden
BEGIN:VTIMEZONE
TZID:Europe/Zurich
BEGIN:DAYLIGHT
TZOFFSETFROM:+0100
TZOFFSETTO:+0200
TZNAME:CEST
DTSTART:20220327T010000
END:DAYLIGHT
BEGIN:STANDARD
TZOFFSETFROM:+0200
TZOFFSETTO:+0100
TZNAME:CET
DTSTART:20221030T010000
END:STANDARD
END:VTIMEZONE
BEGIN:VEVENT
DTSTART;TZID=Europe/Zurich:20220426T190000
DTEND;TZID=Europe/Zurich:20220426T190000
DTSTAMP:20260420T040029
CREATED:20221031T201114Z
LAST-MODIFIED:20221031T201520Z
UID:1987-1650999600-1650999600@sp-entfelden.ch
SUMMARY:SP Aargau: Ausserordentlicher Parteitag
DESCRIPTION:
URL:https://sp-entfelden.ch/event/sp-aargau-ausserordentlicher-parteitag/
END:VEVENT
END:VCALENDAR