BEGIN:VCALENDAR
VERSION:2.0
PRODID:-//SP Entfelden - ECPv5.7.1//NONSGML v1.0//EN
CALSCALE:GREGORIAN
METHOD:PUBLISH
X-WR-CALNAME:SP Entfelden
X-ORIGINAL-URL:https://sp-entfelden.ch
X-WR-CALDESC:Veranstaltungen für SP Entfelden
BEGIN:VTIMEZONE
TZID:Europe/Zurich
BEGIN:DAYLIGHT
TZOFFSETFROM:+0100
TZOFFSETTO:+0200
TZNAME:CEST
DTSTART:20230326T010000
END:DAYLIGHT
BEGIN:STANDARD
TZOFFSETFROM:+0200
TZOFFSETTO:+0100
TZNAME:CET
DTSTART:20231029T010000
END:STANDARD
END:VTIMEZONE
BEGIN:VEVENT
DTSTART;TZID=Europe/Zurich:20230121T100000
DTEND;TZID=Europe/Zurich:20230121T150000
DTSTAMP:20260420T021803
CREATED:20221031T200942Z
LAST-MODIFIED:20221031T200942Z
UID:1983-1674295200-1674313200@sp-entfelden.ch
SUMMARY:SP Aargau: Nominationsparteitag
DESCRIPTION:
URL:https://sp-entfelden.ch/event/sp-aargau-nominationsparteitag/
END:VEVENT
END:VCALENDAR