BEGIN:VCALENDAR
VERSION:2.0
PRODID:-//SP Entfelden - ECPv5.7.1//NONSGML v1.0//EN
CALSCALE:GREGORIAN
METHOD:PUBLISH
X-WR-CALNAME:SP Entfelden
X-ORIGINAL-URL:https://sp-entfelden.ch
X-WR-CALDESC:Veranstaltungen für SP Entfelden
BEGIN:VTIMEZONE
TZID:Europe/Zurich
BEGIN:DAYLIGHT
TZOFFSETFROM:+0100
TZOFFSETTO:+0200
TZNAME:CEST
DTSTART:20210328T010000
END:DAYLIGHT
BEGIN:STANDARD
TZOFFSETFROM:+0200
TZOFFSETTO:+0100
TZNAME:CET
DTSTART:20211031T010000
END:STANDARD
END:VTIMEZONE
BEGIN:VEVENT
DTSTART;TZID=Europe/Zurich:20210313T090000
DTEND;TZID=Europe/Zurich:20210313T130000
DTSTAMP:20260420T074408
CREATED:20210101T173632Z
LAST-MODIFIED:20210101T173632Z
UID:1150-1615626000-1615640400@sp-entfelden.ch
SUMMARY:SP Kanton Aargau: Kommunalpolitische Tagung
DESCRIPTION:
URL:https://sp-entfelden.ch/event/sp-kanton-aargau-kommunalpolitische-tagung/
END:VEVENT
END:VCALENDAR