BEGIN:VCALENDAR
VERSION:2.0
PRODID:-//SP Entfelden - ECPv5.7.1//NONSGML v1.0//EN
CALSCALE:GREGORIAN
METHOD:PUBLISH
X-WR-CALNAME:SP Entfelden
X-ORIGINAL-URL:https://sp-entfelden.ch
X-WR-CALDESC:Veranstaltungen für SP Entfelden
BEGIN:VTIMEZONE
TZID:Europe/Zurich
BEGIN:DAYLIGHT
TZOFFSETFROM:+0100
TZOFFSETTO:+0200
TZNAME:CEST
DTSTART:20210328T010000
END:DAYLIGHT
BEGIN:STANDARD
TZOFFSETFROM:+0200
TZOFFSETTO:+0100
TZNAME:CET
DTSTART:20211031T010000
END:STANDARD
END:VTIMEZONE
BEGIN:VEVENT
DTSTART;TZID=Europe/Zurich:20210818T180000
DTEND;TZID=Europe/Zurich:20210818T200000
DTSTAMP:20260420T055609
CREATED:20210731T162315Z
LAST-MODIFIED:20210731T162456Z
UID:1583-1629309600-1629316800@sp-entfelden.ch
SUMMARY:SP unterwegs | Oberentfelden\, Überbauung Zopfweg/ Alte Luzernstrasse
DESCRIPTION:Auch in deinem Quartier! Mit SP Gemeinderätin und Vizeammann Petra Huckele-Rigoni.
URL:https://sp-entfelden.ch/event/sp-unterwegs-oberentfelden-ueberbauung-zopfweg-alte-luzernstrasse/
LOCATION:Überbauung Zopfweg/ Alte Luzernstrasse\, Überbauung Zopfweg/ Alte Luzernstrasse\, Oberentfelden\, 5036\, Schweiz
ATTACH;FMTTYPE=image/jpeg:https://sp-entfelden.ch/wp-content/uploads/2021/07/2021_SP_Petra_XH0A0507.jpg
END:VEVENT
END:VCALENDAR