BEGIN:VCALENDAR
VERSION:2.0
PRODID:-//SP Entfelden - ECPv5.7.1//NONSGML v1.0//EN
CALSCALE:GREGORIAN
METHOD:PUBLISH
X-WR-CALNAME:SP Entfelden
X-ORIGINAL-URL:https://sp-entfelden.ch
X-WR-CALDESC:Veranstaltungen für SP Entfelden
BEGIN:VTIMEZONE
TZID:Europe/Zurich
BEGIN:DAYLIGHT
TZOFFSETFROM:+0100
TZOFFSETTO:+0200
TZNAME:CEST
DTSTART:20210328T010000
END:DAYLIGHT
BEGIN:STANDARD
TZOFFSETFROM:+0200
TZOFFSETTO:+0100
TZNAME:CET
DTSTART:20211031T010000
END:STANDARD
END:VTIMEZONE
BEGIN:VEVENT
DTSTART;TZID=Europe/Zurich:20210825T180000
DTEND;TZID=Europe/Zurich:20210825T200000
DTSTAMP:20260420T073747
CREATED:20210731T190942Z
LAST-MODIFIED:20210731T190942Z
UID:1589-1629914400-1629921600@sp-entfelden.ch
SUMMARY:SP unterwegs | Oberentfelden\, Untere Holzstrasse/ Wässermattweg
DESCRIPTION:Auch in deinem Quartier! Mit SP Gemeinderätin und Vizeammann Petra Huckele-Rigoni.
URL:https://sp-entfelden.ch/event/sp-unterwegs-oberentfelden-untere-holzstrasse-waessermattweg/
LOCATION:Untere Holzstrasse/ Wässermattweg\, Oberentfelden\, 5036\, Schweiz
ATTACH;FMTTYPE=image/jpeg:https://sp-entfelden.ch/wp-content/uploads/2021/07/2021_SP_Petra_XH0A0507.jpg
END:VEVENT
END:VCALENDAR