BEGIN:VCALENDAR
VERSION:2.0
PRODID:-//SP Entfelden - ECPv5.7.1//NONSGML v1.0//EN
CALSCALE:GREGORIAN
METHOD:PUBLISH
X-WR-CALNAME:SP Entfelden
X-ORIGINAL-URL:https://sp-entfelden.ch
X-WR-CALDESC:Veranstaltungen für SP Entfelden
BEGIN:VTIMEZONE
TZID:Europe/Zurich
BEGIN:DAYLIGHT
TZOFFSETFROM:+0100
TZOFFSETTO:+0200
TZNAME:CEST
DTSTART:20250330T010000
END:DAYLIGHT
BEGIN:STANDARD
TZOFFSETFROM:+0200
TZOFFSETTO:+0100
TZNAME:CET
DTSTART:20251026T010000
END:STANDARD
END:VTIMEZONE
BEGIN:VEVENT
DTSTART;TZID=Europe/Zurich:20250920T100000
DTEND;TZID=Europe/Zurich:20250920T120000
DTSTAMP:20260419T172855
CREATED:20250902T191528Z
LAST-MODIFIED:20250902T191528Z
UID:2514-1758362400-1758369600@sp-entfelden.ch
SUMMARY:Standaktion Gemeinderatswahlen Oberentfelden
DESCRIPTION:
URL:https://sp-entfelden.ch/event/standaktion-gemeinderatswahlen-oberentfelden/
END:VEVENT
END:VCALENDAR