BEGIN:VCALENDAR
VERSION:2.0
PRODID:-//SP Entfelden - ECPv5.7.1//NONSGML v1.0//EN
CALSCALE:GREGORIAN
METHOD:PUBLISH
X-WR-CALNAME:SP Entfelden
X-ORIGINAL-URL:https://sp-entfelden.ch
X-WR-CALDESC:Veranstaltungen für SP Entfelden
BEGIN:VTIMEZONE
TZID:Europe/Zurich
BEGIN:DAYLIGHT
TZOFFSETFROM:+0100
TZOFFSETTO:+0200
TZNAME:CEST
DTSTART:20240331T010000
END:DAYLIGHT
BEGIN:STANDARD
TZOFFSETFROM:+0200
TZOFFSETTO:+0100
TZNAME:CET
DTSTART:20241027T010000
END:STANDARD
END:VTIMEZONE
BEGIN:VEVENT
DTSTART;TZID=Europe/Zurich:20240921T083000
DTEND;TZID=Europe/Zurich:20240921T130000
DTSTAMP:20260419T225522
CREATED:20240717T191741Z
LAST-MODIFIED:20240717T191741Z
UID:2412-1726907400-1726923600@sp-entfelden.ch
SUMMARY:Standaktion in Unterentfelden
DESCRIPTION:Lern unsere Kandidierenden für die Grossratswahlen am Stand vor dem Denner an der Hauptstrasse 23 in Unterentfelden kennen.
URL:https://sp-entfelden.ch/event/standaktion-in-unterentfelden/
LOCATION:Denner Unterentfelden\, Hauptstrasse 23\, Unterentfelden\, 5035
END:VEVENT
END:VCALENDAR