BEGIN:VCALENDAR
VERSION:2.0
PRODID:-//SP Entfelden - ECPv5.7.1//NONSGML v1.0//EN
CALSCALE:GREGORIAN
METHOD:PUBLISH
X-WR-CALNAME:SP Entfelden
X-ORIGINAL-URL:https://sp-entfelden.ch
X-WR-CALDESC:Veranstaltungen für SP Entfelden
BEGIN:VTIMEZONE
TZID:Europe/Zurich
BEGIN:DAYLIGHT
TZOFFSETFROM:+0100
TZOFFSETTO:+0200
TZNAME:CEST
DTSTART:20230326T010000
END:DAYLIGHT
BEGIN:STANDARD
TZOFFSETFROM:+0200
TZOFFSETTO:+0100
TZNAME:CET
DTSTART:20231029T010000
END:STANDARD
END:VTIMEZONE
BEGIN:VEVENT
DTSTART;TZID=Europe/Zurich:20231125T100000
DTEND;TZID=Europe/Zurich:20231125T120000
DTSTAMP:20260419T225521
CREATED:20230706T104346Z
LAST-MODIFIED:20230706T104346Z
UID:2146-1700906400-1700913600@sp-entfelden.ch
SUMMARY:Treffen vor Gemeindeversammlung Unterentfelden
DESCRIPTION:
URL:https://sp-entfelden.ch/event/treffen-vor-gemeindeversammlung-unterentfelden/
END:VEVENT
END:VCALENDAR