BEGIN:VCALENDAR
VERSION:2.0
PRODID:-//SP Entfelden - ECPv5.7.1//NONSGML v1.0//EN
CALSCALE:GREGORIAN
METHOD:PUBLISH
X-WR-CALNAME:SP Entfelden
X-ORIGINAL-URL:https://sp-entfelden.ch
X-WR-CALDESC:Veranstaltungen für SP Entfelden
BEGIN:VTIMEZONE
TZID:Europe/Zurich
BEGIN:DAYLIGHT
TZOFFSETFROM:+0100
TZOFFSETTO:+0200
TZNAME:CEST
DTSTART:20220327T010000
END:DAYLIGHT
BEGIN:STANDARD
TZOFFSETFROM:+0200
TZOFFSETTO:+0100
TZNAME:CET
DTSTART:20221030T010000
END:STANDARD
END:VTIMEZONE
BEGIN:VEVENT
DTSTART;TZID=Europe/Zurich:20220322T183000
DTEND;TZID=Europe/Zurich:20220322T213000
DTSTAMP:20260420T053458
CREATED:20220123T152138Z
LAST-MODIFIED:20220123T152310Z
UID:1791-1647973800-1647984600@sp-entfelden.ch
SUMMARY:Verabschiedung Heinz Lüscher
DESCRIPTION:Ort und Ablauf werden zu einem späteren Zeitpunkt bekannt gegeben. \nBildquelle: Alex Spichale (https://www.aargauerzeitung.ch/aargau/aarau/unterentfelden-nach-35-jahren-tritt-heinz-luescher-als-gemeinderat-ab-bei-diesen-spannenden-themen-muesste-ich-noch-nicht-aufhoeren-ld.2216413)
URL:https://sp-entfelden.ch/event/verabschiedung-heinz-luescher/
ATTACH;FMTTYPE=image/jpeg:https://sp-entfelden.ch/wp-content/uploads/2022/01/6fd29e7c-16fb-40a3-9814-d08174b2265c.jpeg
END:VEVENT
END:VCALENDAR