BEGIN:VCALENDAR
VERSION:2.0
PRODID:-//SP Entfelden - ECPv5.7.1//NONSGML v1.0//EN
CALSCALE:GREGORIAN
METHOD:PUBLISH
X-WR-CALNAME:SP Entfelden
X-ORIGINAL-URL:https://sp-entfelden.ch
X-WR-CALDESC:Veranstaltungen für SP Entfelden
BEGIN:VTIMEZONE
TZID:Europe/Zurich
BEGIN:DAYLIGHT
TZOFFSETFROM:+0100
TZOFFSETTO:+0200
TZNAME:CEST
DTSTART:20240331T010000
END:DAYLIGHT
BEGIN:STANDARD
TZOFFSETFROM:+0200
TZOFFSETTO:+0100
TZNAME:CET
DTSTART:20241027T010000
END:STANDARD
END:VTIMEZONE
BEGIN:VEVENT
DTSTART;TZID=Europe/Zurich:20240511T100000
DTEND;TZID=Europe/Zurich:20240511T110000
DTSTAMP:20260419T211430
CREATED:20240225T140452Z
LAST-MODIFIED:20240225T140452Z
UID:2317-1715421600-1715425200@sp-entfelden.ch
SUMMARY:Vorbesprechung Einwohnergemeindeversammlung Unterentfelden
DESCRIPTION:
URL:https://sp-entfelden.ch/event/vorbesprechung-einwohnergemeindeversammlung-unterentfelden/
END:VEVENT
END:VCALENDAR