BEGIN:VCALENDAR
VERSION:2.0
PRODID:-//SP Entfelden - ECPv5.7.1//NONSGML v1.0//EN
CALSCALE:GREGORIAN
METHOD:PUBLISH
X-WR-CALNAME:SP Entfelden
X-ORIGINAL-URL:https://sp-entfelden.ch
X-WR-CALDESC:Veranstaltungen für SP Entfelden
BEGIN:VTIMEZONE
TZID:Europe/Zurich
BEGIN:DAYLIGHT
TZOFFSETFROM:+0100
TZOFFSETTO:+0200
TZNAME:CEST
DTSTART:20220327T010000
END:DAYLIGHT
BEGIN:STANDARD
TZOFFSETFROM:+0200
TZOFFSETTO:+0100
TZNAME:CET
DTSTART:20221030T010000
END:STANDARD
END:VTIMEZONE
BEGIN:VEVENT
DTSTART;TZID=Europe/Zurich:20220402T100000
DTEND;TZID=Europe/Zurich:20220402T140000
DTSTAMP:20260420T040431
CREATED:20220123T153031Z
LAST-MODIFIED:20220123T153031Z
UID:1797-1648893600-1648908000@sp-entfelden.ch
SUMMARY:Zukunfts-Werkstatt SP Entfelden (nur für Mitglieder)
DESCRIPTION:Bildquelle: Foto von Jonas Zürcher auf Unsplash
URL:https://sp-entfelden.ch/event/zukunfts-werkstatt-sp-entfelden-nur-fuer-mitglieder/
ATTACH;FMTTYPE=image/jpeg:https://sp-entfelden.ch/wp-content/uploads/2022/01/jonas-zurcher-fvLNFnnLPIk-unsplash-scaled.jpg
END:VEVENT
END:VCALENDAR