BEGIN:VCALENDAR
VERSION:2.0
PRODID:-//SP Entfelden - ECPv5.7.1//NONSGML v1.0//EN
CALSCALE:GREGORIAN
METHOD:PUBLISH
X-WR-CALNAME:SP Entfelden
X-ORIGINAL-URL:https://sp-entfelden.ch
X-WR-CALDESC:Veranstaltungen für SP Entfelden
BEGIN:VTIMEZONE
TZID:Europe/Zurich
BEGIN:DAYLIGHT
TZOFFSETFROM:+0100
TZOFFSETTO:+0200
TZNAME:CEST
DTSTART:20210328T010000
END:DAYLIGHT
BEGIN:STANDARD
TZOFFSETFROM:+0200
TZOFFSETTO:+0100
TZNAME:CET
DTSTART:20211031T010000
END:STANDARD
END:VTIMEZONE
BEGIN:VEVENT
DTSTART;TZID=Europe/Zurich:20210901T143000
DTEND;TZID=Europe/Zurich:20210901T160000
DTSTAMP:20260423T115536
CREATED:20210731T193418Z
LAST-MODIFIED:20210731T193418Z
UID:1605-1630506600-1630512000@sp-entfelden.ch
SUMMARY:SP im Gespräch | Unterentfelden\, im Café Chreesegge
DESCRIPTION:Du hast eine Frage\, Idee oder Reklamation? Du möchtest unsere Kandidierenden für die Gemeinderatswahlen vom 26. September in Unterentfelden besser kennenlernen? Hier hast du die Möglichkeit\, mit Gemeinderatskandidatin Lucia Engeli und Gemeinderat/ Kandidat Gemeindeammann Alfred Stiner deine Fragen zu klären.
URL:https://sp-entfelden.ch/event/sp-im-gespraech-unterentfelden-im-cafe-chreesegge/
LOCATION:Café Chreesegge\, Eichenweg 16\, Unterentfelden\, 5035\, Schweiz
ATTACH;FMTTYPE=image/jpeg:https://sp-entfelden.ch/wp-content/uploads/2021/07/2021_SP_TeamUE_XH0A0599.jpg
END:VEVENT
BEGIN:VEVENT
DTSTART;TZID=Europe/Zurich:20210901T180000
DTEND;TZID=Europe/Zurich:20210901T200000
DTSTAMP:20260423T115536
CREATED:20210731T191641Z
LAST-MODIFIED:20210731T191641Z
UID:1592-1630519200-1630526400@sp-entfelden.ch
SUMMARY:SP unterwegs | Unterentfelden\, Schützenmattstrasse beim Spielplatz: ehemaliger Kindergarten
DESCRIPTION:Auch in deinem Quartier! Mit Gemeinderatskandidatin Lucia Engeli und Gemeinderat/ Kandidat Gemeindeammann Alfred Stiner.
URL:https://sp-entfelden.ch/event/sp-unterwegs-unterentfelden-schuetzenmattstrasse-beim-spielplatz-ehemaliger-kindergarten/
LOCATION:Schützenmattstrasse beim Spielplatz: ehemaliger Kindergarten\, Unterentfelden\, Schweiz
ATTACH;FMTTYPE=image/jpeg:https://sp-entfelden.ch/wp-content/uploads/2021/07/2021_SP_TeamUE_XH0A0599.jpg
END:VEVENT
BEGIN:VEVENT
DTSTART;TZID=Europe/Zurich:20210902T180000
DTEND;TZID=Europe/Zurich:20210902T200000
DTSTAMP:20260423T115536
CREATED:20210731T192017Z
LAST-MODIFIED:20210731T192017Z
UID:1596-1630605600-1630612800@sp-entfelden.ch
SUMMARY:SP unterwegs | Unterentfelden\, am Höhenweg 14: Platz mit Bänkli und Briefkasten
DESCRIPTION:Auch in deinem Quartier! Mit Gemeinderatskandidatin Lucia Engeli und Gemeinderat/ Kandidat Gemeindeammann Alfred Stiner.
URL:https://sp-entfelden.ch/event/sp-unterwegs-unterentfelden-am-hoehenweg-14-platz-mit-baenkli-und-briefkasten/
LOCATION:am Höhenweg 14: Platz mit Bänkli und Briefkasten\, Unterentfelden\, 5035\, Schweiz
ATTACH;FMTTYPE=image/jpeg:https://sp-entfelden.ch/wp-content/uploads/2021/07/2021_SP_TeamUE_XH0A0599.jpg
END:VEVENT
BEGIN:VEVENT
DTSTART;TZID=Europe/Zurich:20210904T100000
DTEND;TZID=Europe/Zurich:20210904T120000
DTSTAMP:20260423T115536
CREATED:20210822T102148Z
LAST-MODIFIED:20210822T102148Z
UID:1705-1630749600-1630756800@sp-entfelden.ch
SUMMARY:Wahlpodium mit den Gemeinderatskandidierenden | Unterentfelden
DESCRIPTION:Am 4. September um 10:00 findet in der Bächlihalle in Unterentfelden das gemeinsame Wahlpodium aller Gemeinderatskandidierenden statt. Mit dabei die FDP\, GLP\, Mitte\, SP und SVP. Komm doch auch vorbei\, unsere Gemeinderatskandidierenden Lucia Engeli und Alfred Stiner freuen sich über deine Unterstützung! \n  \nEinladung Wahlpodium Gemeinderatswahlen 2021
URL:https://sp-entfelden.ch/event/wahlpodium-mit-den-gemeinderatskandidierenden-unterentfelden/
LOCATION:Bächlihalle\, Unterentfelden\, 5035\, Schweiz
ATTACH;FMTTYPE=image/jpeg:https://sp-entfelden.ch/wp-content/uploads/2021/08/Wahlpodium-Unterentfelden-04.09.21-10.00.jpeg
END:VEVENT
BEGIN:VEVENT
DTSTART;VALUE=DATE:20210907
DTEND;VALUE=DATE:20210908
DTSTAMP:20260423T115536
CREATED:20210101T175608Z
LAST-MODIFIED:20210101T175608Z
UID:1161-1630972800-1631059199@sp-entfelden.ch
SUMMARY:SP Kanton Aargau: Ausserordentlicher Parteitag
DESCRIPTION:
URL:https://sp-entfelden.ch/event/sp-kanton-aargau-ausserordentlicher-parteitag-3/
END:VEVENT
BEGIN:VEVENT
DTSTART;TZID=Europe/Zurich:20210909T180000
DTEND;TZID=Europe/Zurich:20210909T200000
DTSTAMP:20260423T115536
CREATED:20210731T192232Z
LAST-MODIFIED:20210731T192232Z
UID:1599-1631210400-1631217600@sp-entfelden.ch
SUMMARY:SP unterwegs | Unterentfelden\, Kirchweg/ Quellmattstrasse: beim Briefkasten Verzweigung
DESCRIPTION:Auch in deinem Quartier! Mit Gemeinderatskandidatin Lucia Engeli und Gemeinderat/ Kandidat Gemeindeammann Alfred Stiner.
URL:https://sp-entfelden.ch/event/sp-unterwegs-unterentfelden-kirchweg-quellmattstrasse-beim-briefkasten-verzweigung/
LOCATION:Kirchweg/ Quellmattstrasse: beim Briefkasten Verzweigung\, Unterentfelden\, 5035\, Schweiz
ATTACH;FMTTYPE=image/jpeg:https://sp-entfelden.ch/wp-content/uploads/2021/07/2021_SP_TeamUE_XH0A0599.jpg
END:VEVENT
BEGIN:VEVENT
DTSTART;TZID=Europe/Zurich:20210916T180000
DTEND;TZID=Europe/Zurich:20210916T200000
DTSTAMP:20260423T115536
CREATED:20210731T192426Z
LAST-MODIFIED:20210731T192426Z
UID:1602-1631815200-1631822400@sp-entfelden.ch
SUMMARY:SP unterwegs | Unterentfelden\, am Grenzweg: beim Jungscharzentrum des CEVI Entfelden
DESCRIPTION:Auch in deinem Quartier! Mit Gemeinderatskandidatin Lucia Engeli und Gemeinderat/ Kandidat Gemeindeammann Alfred Stiner.
URL:https://sp-entfelden.ch/event/sp-unterwegs-unterentfelden-am-grenzweg-beim-jungscharzentrum-des-cevi-entfelden/
LOCATION:am Grenzweg: beim Jungscharzentrum des CEVI Entfelden\, Unterentfelden\, 5035\, Schweiz
ATTACH;FMTTYPE=image/jpeg:https://sp-entfelden.ch/wp-content/uploads/2021/07/2021_SP_TeamUE_XH0A0599.jpg
END:VEVENT
BEGIN:VEVENT
DTSTART;VALUE=DATE:20210926
DTEND;VALUE=DATE:20210927
DTSTAMP:20260423T115536
CREATED:20210709T181452Z
LAST-MODIFIED:20210712T200514Z
UID:1531-1632614400-1632700799@sp-entfelden.ch
SUMMARY:Kommunalwahlen in Unter- und Oberentfelden
DESCRIPTION:Kommunal: \nWir wählen Petra Huckele wieder in den Gemeinderat und als Vizeammann von Oberentfelden. In Unterentfelden wählen wir Alfred Stiner wieder in den Gemeinderat und neu als Gemeindeammann und Lucia Engeli neu in den Gemeinderat. Auch für die kommunalen Kommissionen wählen wir die Kandidierenden der SP Entfelden! \nNational: \nJA zur Ehe für alle! \nJA zur 99%-Initiative!
URL:https://sp-entfelden.ch/event/kommunalwahlen-in-unter-und-oberentfelden/
ATTACH;FMTTYPE=image/jpeg:https://sp-entfelden.ch/wp-content/uploads/2021/07/2021_SP_GruppeXH0A0446.jpg
END:VEVENT
BEGIN:VEVENT
DTSTART;TZID=Europe/Zurich:20210926T160000
DTEND;TZID=Europe/Zurich:20210926T180000
DTSTAMP:20260423T115536
CREATED:20210815T080415Z
LAST-MODIFIED:20210815T080415Z
UID:1659-1632672000-1632679200@sp-entfelden.ch
SUMMARY:Wahlfeier
DESCRIPTION:Wir wollen mit dir einen engagierten Wahlkampf in Unter- und Oberentfelden feiern. Gerne begrüssen wir dich deshalb am 26. September um 16:00 im Restaurant Pöstli in Unterentfelden. \n 
URL:https://sp-entfelden.ch/event/wahlfeier/
LOCATION:Hauptstrasse 10\, Hauptstrasse 10\, Unterentfelden\, Aargau\, 5035\, Schweiz
END:VEVENT
END:VCALENDAR