BEGIN:VCALENDAR
VERSION:2.0
PRODID:-//SP Entfelden - ECPv5.7.1//NONSGML v1.0//EN
CALSCALE:GREGORIAN
METHOD:PUBLISH
X-WR-CALNAME:SP Entfelden
X-ORIGINAL-URL:https://sp-entfelden.ch
X-WR-CALDESC:Veranstaltungen für SP Entfelden
BEGIN:VTIMEZONE
TZID:Europe/Zurich
BEGIN:DAYLIGHT
TZOFFSETFROM:+0100
TZOFFSETTO:+0200
TZNAME:CEST
DTSTART:20230326T010000
END:DAYLIGHT
BEGIN:STANDARD
TZOFFSETFROM:+0200
TZOFFSETTO:+0100
TZNAME:CET
DTSTART:20231029T010000
END:STANDARD
END:VTIMEZONE
BEGIN:VEVENT
DTSTART;TZID=Europe/Zurich:20230813T100000
DTEND;TZID=Europe/Zurich:20230813T130000
DTSTAMP:20260421T234213
CREATED:20221031T200355Z
LAST-MODIFIED:20221031T200355Z
UID:1979-1691920800-1691931600@sp-entfelden.ch
SUMMARY:SP-Brunch
DESCRIPTION:
URL:https://sp-entfelden.ch/event/sp-brunch-2/
END:VEVENT
BEGIN:VEVENT
DTSTART;TZID=Europe/Zurich:20230815T193000
DTEND;TZID=Europe/Zurich:20230815T210000
DTSTAMP:20260421T234213
CREATED:20230706T104011Z
LAST-MODIFIED:20230706T104011Z
UID:2140-1692127800-1692133200@sp-entfelden.ch
SUMMARY:Ausserordentliche Parteiversammlung
DESCRIPTION:
URL:https://sp-entfelden.ch/event/ausserordentliche-parteiversammlung/
END:VEVENT
BEGIN:VEVENT
DTSTART;VALUE=DATE:20230826
DTEND;VALUE=DATE:20230827
DTSTAMP:20260421T234213
CREATED:20221031T200243Z
LAST-MODIFIED:20221031T200243Z
UID:1976-1693008000-1693094399@sp-entfelden.ch
SUMMARY:SP Schweiz: Parteitag
DESCRIPTION:
URL:https://sp-entfelden.ch/event/sp-schweiz-parteitag-2/
LOCATION:Biel
END:VEVENT
END:VCALENDAR