BEGIN:VCALENDAR
VERSION:2.0
PRODID:-//SP Entfelden - ECPv5.7.1//NONSGML v1.0//EN
CALSCALE:GREGORIAN
METHOD:PUBLISH
X-WR-CALNAME:SP Entfelden
X-ORIGINAL-URL:https://sp-entfelden.ch
X-WR-CALDESC:Veranstaltungen für SP Entfelden
BEGIN:VTIMEZONE
TZID:Europe/Zurich
BEGIN:DAYLIGHT
TZOFFSETFROM:+0100
TZOFFSETTO:+0200
TZNAME:CEST
DTSTART:20240331T010000
END:DAYLIGHT
BEGIN:STANDARD
TZOFFSETFROM:+0200
TZOFFSETTO:+0100
TZNAME:CET
DTSTART:20241027T010000
END:STANDARD
END:VTIMEZONE
BEGIN:VEVENT
DTSTART;VALUE=DATE:20241107
DTEND;VALUE=DATE:20241108
DTSTAMP:20260420T221114
CREATED:20240225T141445Z
LAST-MODIFIED:20240225T141445Z
UID:2337-1730937600-1731023999@sp-entfelden.ch
SUMMARY:Einwohnergemeindeversammlung Oberentfelden
DESCRIPTION:
URL:https://sp-entfelden.ch/event/einwohnergemeindeversammlung-oberentfelden-2/
END:VEVENT
BEGIN:VEVENT
DTSTART;TZID=Europe/Zurich:20241123T100000
DTEND;TZID=Europe/Zurich:20241123T120000
DTSTAMP:20260420T221114
CREATED:20240225T141523Z
LAST-MODIFIED:20240225T141523Z
UID:2339-1732356000-1732363200@sp-entfelden.ch
SUMMARY:Vorbesprechung Einwohnergemeindeversammlung Unterentfelden
DESCRIPTION:
URL:https://sp-entfelden.ch/event/vorbesprechung-einwohnergemeindeversammlung-unterentfelden-2/
END:VEVENT
BEGIN:VEVENT
DTSTART;VALUE=DATE:20241124
DTEND;VALUE=DATE:20241125
DTSTAMP:20260420T221114
CREATED:20240225T141548Z
LAST-MODIFIED:20240225T141548Z
UID:2341-1732406400-1732492799@sp-entfelden.ch
SUMMARY:Eidgenössische und kantonale Abstimmungen
DESCRIPTION:
URL:https://sp-entfelden.ch/event/eidgenoessische-und-kantonale-abstimmungen-2/
END:VEVENT
BEGIN:VEVENT
DTSTART;TZID=Europe/Zurich:20241130T160000
DTEND;TZID=Europe/Zurich:20241130T170000
DTSTAMP:20260420T221114
CREATED:20240225T141621Z
LAST-MODIFIED:20240225T141621Z
UID:2343-1732982400-1732986000@sp-entfelden.ch
SUMMARY:Chlaushöck
DESCRIPTION:
URL:https://sp-entfelden.ch/event/chlaushoeck-2/
LOCATION:Staufferhaus
END:VEVENT
END:VCALENDAR